BEGIN:VCALENDAR
VERSION:2.0
PRODID:-//wp-events-plugin.com//7.2.3.1//EN
TZID:Europe/Rome
X-WR-TIMEZONE:Europe/Rome
BEGIN:VEVENT
UID:18@unplibasilicata.info
DTSTART;TZID=Europe/Rome:20250712T170000
DTEND;TZID=Europe/Rome:20250713T200000
DTSTAMP:20250711T111337Z
URL:https://unplibasilicata.info/events/openday-in-pro-loco/
SUMMARY:OpenDay in Pro Loco
DESCRIPTION:Porte Aperte delle nostra sede a tutta la comunità.\n\nSarà l
 'occasione per conoscere le nostre attività\, iscriversi e rinnovare il t
 esseramento.
ATTACH;FMTTYPE=image/jpeg:https://unplibasilicata.info/wp-content/uploads/
 2025/07/gnpl-sanfele.jpg
CATEGORIES:Giornata Nazionale delle Pro Loco D'Italia
LOCATION:Sede Pro Loco San Fele\, Via Volontari del Sangue\, snc\, San Fele
 \, Potenza\, Basilicata\, Italia
X-APPLE-STRUCTURED-LOCATION;VALUE=URI;X-ADDRESS=Via Volontari del Sangue\, 
 snc\, San Fele\, Potenza\, Basilicata\, Italia;X-APPLE-RADIUS=100;X-TITLE=
 Sede Pro Loco San Fele:geo:0,0
END:VEVENT
BEGIN:VTIMEZONE
TZID:Europe/Rome
X-LIC-LOCATION:Europe/Rome
BEGIN:DAYLIGHT
DTSTART:20250330T030000
TZOFFSETFROM:+0100
TZOFFSETTO:+0200
TZNAME:CEST
END:DAYLIGHT
END:VTIMEZONE
END:VCALENDAR